BEGIN:VCALENDAR
VERSION:2.0
PRODID:icalendar-ruby
CALSCALE:GREGORIAN
METHOD:PUBLISH
BEGIN:VTIMEZONE
TZID:Australia/Perth
BEGIN:STANDARD
DTSTART:20090329T020000
TZOFFSETFROM:+0900
TZOFFSETTO:+0800
TZNAME:AWST
END:STANDARD
END:VTIMEZONE
BEGIN:VEVENT
DTSTAMP:20260422T090108Z
UID:inspection_2999512
DTSTART;TZID=Australia/Perth:20260418T150000
DTEND;TZID=Australia/Perth:20260418T154500
CLASS:PUBLIC
CREATED:20260415T174704
DESCRIPTION: 
LAST-MODIFIED:20260415T174704
LOCATION:10 / 15 Burlos Court\, JOONDALUP WA 6027\, Australia
SUMMARY:10 / 15 Burlos Court\,  Inspection
URL;VALUE=URI:http://itsrealestate.com.au
END:VEVENT
END:VCALENDAR
